BEGIN:VCALENDAR
VERSION:2.0
PRODID:-//GAMAG - ECPv6.15.20//NONSGML v1.0//EN
CALSCALE:GREGORIAN
METHOD:PUBLISH
X-WR-CALNAME:GAMAG
X-ORIGINAL-URL:https://gamag.net
X-WR-CALDESC:Events for GAMAG
REFRESH-INTERVAL;VALUE=DURATION:PT1H
X-Robots-Tag:noindex
X-PUBLISHED-TTL:PT1H
BEGIN:VTIMEZONE
TZID:UTC
BEGIN:STANDARD
TZOFFSETFROM:+0000
TZOFFSETTO:+0000
TZNAME:UTC
DTSTART:20160101T000000
END:STANDARD
END:VTIMEZONE
BEGIN:VEVENT
DTSTART;TZID=UTC:20171201T080000
DTEND;TZID=UTC:20171201T170000
DTSTAMP:20260423T022312
CREATED:20171026T033507Z
LAST-MODIFIED:20180312T163939Z
UID:2256-1512115200-1512147600@gamag.net
SUMMARY:Internet Governance Forum
DESCRIPTION:Internet Governance Forum. Date TBC. Contact: Anita Gurumurthy. Dates TBC
URL:https://gamag.net/event/internet-governance-forum/
LOCATION:NY
END:VEVENT
BEGIN:VEVENT
DTSTART;TZID=UTC:20171124T080000
DTEND;TZID=UTC:20171124T170000
DTSTAMP:20260423T022312
CREATED:20171026T033406Z
LAST-MODIFIED:20171026T033436Z
UID:2254-1511510400-1511542800@gamag.net
SUMMARY:Réunion du Comité d’orientation du RIARC
DESCRIPTION:Réunion du Comité d’orientation du RIARC\, réseau africain\, à Rabat. Amina Lemrini
URL:https://gamag.net/event/reunion-du-comite-dorientation-du-riarc/
LOCATION:NY
END:VEVENT
BEGIN:VEVENT
DTSTART;TZID=UTC:20171117T080000
DTEND;TZID=UTC:20171117T170000
DTSTAMP:20260423T022312
CREATED:20171026T033316Z
LAST-MODIFIED:20171026T033316Z
UID:2252-1510905600-1510938000@gamag.net
SUMMARY:Assemblée générale du RIRM
DESCRIPTION:Assemblée générale du RIRM\, réseau méditerranéen\, à Marseille. Jusqu’àu 17. Amina Lemrini
URL:https://gamag.net/event/assemblee-generale-du-rirm/
LOCATION:NY
END:VEVENT
END:VCALENDAR